BEGIN:VCALENDAR
VERSION:2.0
PRODID:-//Basingstoke And Mid Hants Athletic Club - ECPv6.15.20//NONSGML v1.0//EN
CALSCALE:GREGORIAN
METHOD:PUBLISH
X-WR-CALNAME:Basingstoke And Mid Hants Athletic Club
X-ORIGINAL-URL:https://bmhac-a4s1km9h0y.live-website.com
X-WR-CALDESC:Events for Basingstoke And Mid Hants Athletic Club
REFRESH-INTERVAL;VALUE=DURATION:PT1H
X-Robots-Tag:noindex
X-PUBLISHED-TTL:PT1H
BEGIN:VTIMEZONE
TZID:UTC
BEGIN:STANDARD
TZOFFSETFROM:+0000
TZOFFSETTO:+0000
TZNAME:UTC
DTSTART:20250101T000000
END:STANDARD
END:VTIMEZONE
BEGIN:VEVENT
DTSTART;VALUE=DATE:20260221
DTEND;VALUE=DATE:20260223
DTSTAMP:20260425T224016
CREATED:20260215T121527Z
LAST-MODIFIED:20260215T121527Z
UID:1379-1771632000-1771804799@bmhac-a4s1km9h0y.live-website.com
SUMMARY:British Masters Indoor Championships
DESCRIPTION:Competition Dates: 21-22 February 2026\, Lee Valley
URL:https://bmhac-a4s1km9h0y.live-website.com/event/british-masters-indoor-championships/
LOCATION:Lee Valley\, Lee Valley Athletics Centre\, Edmonton\, N9 0AR\, United Kingdom
CATEGORIES:Senior,Vet
ATTACH;FMTTYPE=image/jpeg:https://bmhac-a4s1km9h0y.live-website.com/wp-content/uploads/2026/02/british-masters-athletics-scaled.jpg
END:VEVENT
BEGIN:VEVENT
DTSTART;VALUE=DATE:20260221
DTEND;VALUE=DATE:20260222
DTSTAMP:20260425T224016
CREATED:20260215T120806Z
LAST-MODIFIED:20260215T120806Z
UID:1375-1771632000-1771718399@bmhac-a4s1km9h0y.live-website.com
SUMMARY:National XC Champs
DESCRIPTION:SportsShoes National Cross Country Championships 2026 \nSaturday 21st February 2026 \nHardwick East Park\, Sedgefield\, Co Durham \nEntries open Friday 21st November 2025. \nEntries close Friday 6th February 2026.
URL:https://bmhac-a4s1km9h0y.live-website.com/event/national-xc-champs/
LOCATION:Hardwick East Park\, Hardwick East Park\, Sedgefield\, County Duham\, TS21 2DN\, United Kingdom
CATEGORIES:Senior,U14,U16,U18
ATTACH;FMTTYPE=image/jpeg:https://bmhac-a4s1km9h0y.live-website.com/wp-content/uploads/2026/02/ECCA-English-Cross-Country-Association-logo-NEW.jpg
END:VEVENT
BEGIN:VEVENT
DTSTART;TZID=UTC:20260218T080000
DTEND;TZID=UTC:20260218T170000
DTSTAMP:20260425T224016
CREATED:20260215T115527Z
LAST-MODIFIED:20260215T120009Z
UID:1369-1771401600-1771434000@bmhac-a4s1km9h0y.live-website.com
SUMMARY:Lee Valley Middle Distance Open 2026
DESCRIPTION:Lee Valley Athletics Centre at proud to welcome back the Middle Distance Open in 2026. \nAll Events Now Sold Out
URL:https://bmhac-a4s1km9h0y.live-website.com/event/lee-valley-middle-distance-open-2026/
LOCATION:Lee Valley\, Lee Valley Athletics Centre\, Edmonton\, N9 0AR\, United Kingdom
CATEGORIES:U14,U16
ATTACH;FMTTYPE=image/jpeg:https://bmhac-a4s1km9h0y.live-website.com/wp-content/uploads/2026/02/LeeValley-scaled.jpg
ORGANIZER;CN="Lee Valley Athletics Centre":MAILTO:lvathletics@gll.org
END:VEVENT
END:VCALENDAR