BEGIN:VCALENDAR
VERSION:2.0
PRODID:-//Basingstoke And Mid Hants Athletic Club - ECPv6.15.20//NONSGML v1.0//EN
CALSCALE:GREGORIAN
METHOD:PUBLISH
X-ORIGINAL-URL:https://bmhac-a4s1km9h0y.live-website.com
X-WR-CALDESC:Events for Basingstoke And Mid Hants Athletic Club
REFRESH-INTERVAL;VALUE=DURATION:PT1H
X-Robots-Tag:noindex
X-PUBLISHED-TTL:PT1H
BEGIN:VTIMEZONE
TZID:UTC
BEGIN:STANDARD
TZOFFSETFROM:+0000
TZOFFSETTO:+0000
TZNAME:UTC
DTSTART:20250101T000000
END:STANDARD
END:VTIMEZONE
BEGIN:VEVENT
DTSTART;TZID=UTC:20260426T090000
DTEND;TZID=UTC:20260426T170000
DTSTAMP:20260426T001227
CREATED:20260213T232155Z
LAST-MODIFIED:20260213T232654Z
UID:1250-1777194000-1777222800@bmhac-a4s1km9h0y.live-website.com
SUMMARY:Alder Valley League 1
DESCRIPTION:Age Group: U14-U18 \nEntry: Via Team Manager – contact the relevant team manager if you wish to compete.
URL:https://bmhac-a4s1km9h0y.live-website.com/event/alder-valley-league-1/
LOCATION:Hillingdon Athletics Stadium\, Gatting Way\, Uxbridge\, UB8 1ES\, United Kingdom
CATEGORIES:U14,U16,U18
ATTACH;FMTTYPE=image/jpeg:https://bmhac-a4s1km9h0y.live-website.com/wp-content/uploads/2026/02/BMHAC.jpg
END:VEVENT
BEGIN:VEVENT
DTSTART;TZID=UTC:20260427T090000
DTEND;TZID=UTC:20260427T170000
DTSTAMP:20260426T001227
CREATED:20260213T232156Z
LAST-MODIFIED:20260213T232157Z
UID:1252-1777280400-1777309200@bmhac-a4s1km9h0y.live-website.com
SUMMARY:Hampshire Veterans League HVL 1
DESCRIPTION:Age Group: over35 \nEntry: Via Team Manager – contact the relevant team manager if you wish to compete.
URL:https://bmhac-a4s1km9h0y.live-website.com/event/hampshire-veterans-league-hvl-1/
LOCATION:Down Grange\, RG225SN
CATEGORIES:Vet
ATTACH;FMTTYPE=image/jpeg:https://bmhac-a4s1km9h0y.live-website.com/wp-content/uploads/2026/02/PJY6545-Edit-Edit.jpg
END:VEVENT
BEGIN:VEVENT
DTSTART;TZID=UTC:20260429T090000
DTEND;TZID=UTC:20260429T170000
DTSTAMP:20260426T001227
CREATED:20260213T232158Z
LAST-MODIFIED:20260213T232653Z
UID:1254-1777453200-1777482000@bmhac-a4s1km9h0y.live-website.com
SUMMARY:Aldershot District Schools Combined Events
DESCRIPTION:Age Group: year 8-11 \nEntry: Via Schools
URL:https://bmhac-a4s1km9h0y.live-website.com/event/aldershot-district-schools-combined-events/
LOCATION:Lord Wandsworth College\, Long Sutton\, Hook\, RG29 1TB\, United Kingdom
CATEGORIES:U14,U16,U18
ATTACH;FMTTYPE=image/jpeg:https://bmhac-a4s1km9h0y.live-website.com/wp-content/uploads/2026/02/05-07-25-KP03.jpg
END:VEVENT
BEGIN:VEVENT
DTSTART;TZID=UTC:20260429T090000
DTEND;TZID=UTC:20260429T170000
DTSTAMP:20260426T001227
CREATED:20260213T232159Z
LAST-MODIFIED:20260213T232200Z
UID:1256-1777453200-1777482000@bmhac-a4s1km9h0y.live-website.com
SUMMARY:Watford open
DESCRIPTION:Age Group: U14 upwards \nEntry: Roster Athletics – entries open 15 april
URL:https://bmhac-a4s1km9h0y.live-website.com/event/watford-open-3/
LOCATION:Watford Open Graded Meeting\, Woodside Playing Fields\, Horseshoe Lane\, Watford\, WD25 7HZ\, United Kingdom
CATEGORIES:Senior,U14,U16,U18,U20
ATTACH;FMTTYPE=image/jpeg:https://bmhac-a4s1km9h0y.live-website.com/wp-content/uploads/2026/02/2025_07_05_Down-Grange-Athletics_261.jpg
END:VEVENT
BEGIN:VEVENT
DTSTART;TZID=UTC:20260504T090000
DTEND;TZID=UTC:20260504T170000
DTSTAMP:20260426T001227
CREATED:20260213T232201Z
LAST-MODIFIED:20260213T232202Z
UID:1258-1777885200-1777914000@bmhac-a4s1km9h0y.live-website.com
SUMMARY:Hampshire Multi Event Championships
DESCRIPTION:Age Group: U14 upwards \nEntry: Roster Athletics · Hampshire Athletics Multi Events Championships
URL:https://bmhac-a4s1km9h0y.live-website.com/event/hampshire-multi-event-championships/
LOCATION:Mountbatten Centre\, Alexandra Park\, Tipner Road\, Portsmouth\, PO2 8HB\, United Kingdom
CATEGORIES:Senior,U14,U16,U18,U20
ATTACH;FMTTYPE=image/jpeg:https://bmhac-a4s1km9h0y.live-website.com/wp-content/uploads/2026/02/PJY6934-Edit-Edit.jpg
END:VEVENT
BEGIN:VEVENT
DTSTART;TZID=UTC:20260504T090000
DTEND;TZID=UTC:20260504T170000
DTSTAMP:20260426T001227
CREATED:20260213T232202Z
LAST-MODIFIED:20260213T232203Z
UID:1260-1777885200-1777914000@bmhac-a4s1km9h0y.live-website.com
SUMMARY:Hampshire Quadrathlon
DESCRIPTION:Age Group: U11\, U12 \nEntry: Roster Athletics · Hampshire Athletics Quadrathlon Championships
URL:https://bmhac-a4s1km9h0y.live-website.com/event/hampshire-quadrathlon/
LOCATION:Mountbatten Centre\, Alexandra Park\, Tipner Road\, Portsmouth\, PO2 8HB\, United Kingdom
CATEGORIES:U12
ATTACH;FMTTYPE=image/jpeg:https://bmhac-a4s1km9h0y.live-website.com/wp-content/uploads/2026/02/2025_07_09_A1M7A1797_Canon-EOS-R5m2_SiG-Athletics.jpg
END:VEVENT
BEGIN:VEVENT
DTSTART;TZID=UTC:20260504T090000
DTEND;TZID=UTC:20260504T170000
DTSTAMP:20260426T001227
CREATED:20260213T232204Z
LAST-MODIFIED:20260213T232205Z
UID:1262-1777885200-1777914000@bmhac-a4s1km9h0y.live-website.com
SUMMARY:Hampshire May Day Mile & 3000m
DESCRIPTION:Age Group: U14 upwards \nEntry: Roster Athletics · Hampshire Athletics May Day Miles and May Day 3000m
URL:https://bmhac-a4s1km9h0y.live-website.com/event/hampshire-may-day-mile-3000m/
LOCATION:Mountbatten Centre\, Alexandra Park\, Tipner Road\, Portsmouth\, PO2 8HB\, United Kingdom
CATEGORIES:Senior,U14,U16,U18,U20
ATTACH;FMTTYPE=image/jpeg:https://bmhac-a4s1km9h0y.live-website.com/wp-content/uploads/2026/02/2025_07_05_Down-Grange-Athletics_041.jpg
END:VEVENT
BEGIN:VEVENT
DTSTART;TZID=UTC:20260509T090000
DTEND;TZID=UTC:20260510T170000
DTSTAMP:20260426T001227
CREATED:20260213T232206Z
LAST-MODIFIED:20260305T095803Z
UID:1264-1778317200-1778432400@bmhac-a4s1km9h0y.live-website.com
SUMMARY:Hampshire Track & Field Championships
DESCRIPTION:Age Group: U14 upwards \nEntry: Roster Athletics · Hampshire Athletics Track and Field Championships
URL:https://bmhac-a4s1km9h0y.live-website.com/event/hampshire-track-field-championships/
LOCATION:Down Grange\, RG225SN
CATEGORIES:Senior,U14,U16,U18,U20
ATTACH;FMTTYPE=image/jpeg:https://bmhac-a4s1km9h0y.live-website.com/wp-content/uploads/2026/02/IMG_5318-2RS.jpg
END:VEVENT
BEGIN:VEVENT
DTSTART;TZID=UTC:20260513T090000
DTEND;TZID=UTC:20260513T170000
DTSTAMP:20260426T001227
CREATED:20260213T232207Z
LAST-MODIFIED:20260213T232208Z
UID:1266-1778662800-1778691600@bmhac-a4s1km9h0y.live-website.com
SUMMARY:Watford Open
DESCRIPTION:Age Group: U14 upwards \nEntry: Roster Athletics – entries open 29 april
URL:https://bmhac-a4s1km9h0y.live-website.com/event/watford-open-4/
LOCATION:Watford Open Graded Meeting\, Woodside Playing Fields\, Horseshoe Lane\, Watford\, WD25 7HZ\, United Kingdom
CATEGORIES:Senior,U14,U16,U18,U20
ATTACH;FMTTYPE=image/jpeg:https://bmhac-a4s1km9h0y.live-website.com/wp-content/uploads/2026/02/09-07-25-KP09.jpg
END:VEVENT
BEGIN:VEVENT
DTSTART;TZID=UTC:20260516T090000
DTEND;TZID=UTC:20260516T170000
DTSTAMP:20260426T001227
CREATED:20260213T232209Z
LAST-MODIFIED:20260213T232210Z
UID:1268-1778922000-1778950800@bmhac-a4s1km9h0y.live-website.com
SUMMARY:SAL 1
DESCRIPTION:Age Group: U18 upwards \nEntry: Via Team Manager – contact the relevant team manager if you wish to compete.
URL:https://bmhac-a4s1km9h0y.live-website.com/event/sal-1/
LOCATION:Tilsley Park\, Dunmore Road\, Abingdon\, OX14 1PU\, United Kingdom
CATEGORIES:Senior,U18,U20
ATTACH;FMTTYPE=image/jpeg:https://bmhac-a4s1km9h0y.live-website.com/wp-content/uploads/2026/02/PJY6907-Edit-Edit.jpg
END:VEVENT
BEGIN:VEVENT
DTSTART;TZID=UTC:20260518T090000
DTEND;TZID=UTC:20260518T170000
DTSTAMP:20260426T001227
CREATED:20260213T232211Z
LAST-MODIFIED:20260213T232212Z
UID:1270-1779094800-1779123600@bmhac-a4s1km9h0y.live-website.com
SUMMARY:Hampshire Veterans League HVL 2
DESCRIPTION:Age Group: over35 \nEntry: Via Team Manager – contact the relevant team manager if you wish to compete.
URL:https://bmhac-a4s1km9h0y.live-website.com/event/hampshire-veterans-league-hvl-2/
LOCATION:Southampton Sports Centre\, Bassett Green Road\, Southampton\, SO16 3TH\, United Kingdom
CATEGORIES:Vet
ATTACH;FMTTYPE=image/jpeg:https://bmhac-a4s1km9h0y.live-website.com/wp-content/uploads/2026/02/P1407814.jpeg
END:VEVENT
BEGIN:VEVENT
DTSTART;TZID=UTC:20260519T090000
DTEND;TZID=UTC:20260519T170000
DTSTAMP:20260426T001227
CREATED:20260213T232212Z
LAST-MODIFIED:20260213T232652Z
UID:1272-1779181200-1779210000@bmhac-a4s1km9h0y.live-website.com
SUMMARY:Aldershot District SchoolsSenior Champs
DESCRIPTION:Age Group: year 8-13 \nEntry: Via Schools
URL:https://bmhac-a4s1km9h0y.live-website.com/event/aldershot-district-schoolssenior-champs/
LOCATION:Aldershot Military Stadium\, Gallwey Road\, Aldershot\, GU11 2HY\, United Kingdom
CATEGORIES:U14,U16,U18
ATTACH;FMTTYPE=image/jpeg:https://bmhac-a4s1km9h0y.live-website.com/wp-content/uploads/2026/02/BMHAC-3.jpg
END:VEVENT
BEGIN:VEVENT
DTSTART;TZID=UTC:20260521T090000
DTEND;TZID=UTC:20260521T170000
DTSTAMP:20260426T001227
CREATED:20260213T232215Z
LAST-MODIFIED:20260213T232652Z
UID:1274-1779354000-1779382800@bmhac-a4s1km9h0y.live-website.com
SUMMARY:Hants Schools Pentathlon
DESCRIPTION:Age Group: year 8-11 \nEntry: Via Schools
URL:https://bmhac-a4s1km9h0y.live-website.com/event/hants-schools-pentathlon/
LOCATION:Andover Athletics Track\, Charlton Sports Centre\, Charlton Road\, Andover\, SP10 4AH\, United Kingdom
CATEGORIES:U14,U16,U18
ATTACH;FMTTYPE=image/jpeg:https://bmhac-a4s1km9h0y.live-website.com/wp-content/uploads/2026/02/2025_07_09_Down-Grange-Athletics_034.jpg
END:VEVENT
BEGIN:VEVENT
DTSTART;TZID=UTC:20260523T090000
DTEND;TZID=UTC:20260523T170000
DTSTAMP:20260426T001227
CREATED:20260213T232217Z
LAST-MODIFIED:20260213T232218Z
UID:1276-1779526800-1779555600@bmhac-a4s1km9h0y.live-website.com
SUMMARY:NAL 1
DESCRIPTION:Age Group: Seniors \nEntry: Via Team Manager – contact the relevant team manager if you wish to compete.
URL:https://bmhac-a4s1km9h0y.live-website.com/event/nal-1/
LOCATION:Kingsmeadow Athletics Track\, 422A Kingston Road\, Kingston upon Thames\, KT1 3PB\, United Kingdom
CATEGORIES:Senior
ATTACH;FMTTYPE=image/jpeg:https://bmhac-a4s1km9h0y.live-website.com/wp-content/uploads/2026/02/2025_07_05_Down-Grange-Athletics_174.jpg
END:VEVENT
BEGIN:VEVENT
DTSTART;TZID=UTC:20260527T090000
DTEND;TZID=UTC:20260527T170000
DTSTAMP:20260426T001227
CREATED:20260213T232219Z
LAST-MODIFIED:20260213T232220Z
UID:1278-1779872400-1779901200@bmhac-a4s1km9h0y.live-website.com
SUMMARY:Watford Open
DESCRIPTION:Age Group: U14 upwards \nEntry: Roster Athletics – entries open 13 May
URL:https://bmhac-a4s1km9h0y.live-website.com/event/watford-open-5/
LOCATION:Watford Open Graded Meeting\, Woodside Playing Fields\, Horseshoe Lane\, Watford\, WD25 7HZ\, United Kingdom
CATEGORIES:Senior,U14,U16,U18,U20
ATTACH;FMTTYPE=image/jpeg:https://bmhac-a4s1km9h0y.live-website.com/wp-content/uploads/2026/02/2025_07_09_Down-Grange-Athletics_009.jpg
END:VEVENT
BEGIN:VEVENT
DTSTART;TZID=UTC:20260603T090000
DTEND;TZID=UTC:20260603T170000
DTSTAMP:20260426T001227
CREATED:20260213T232220Z
LAST-MODIFIED:20260213T232222Z
UID:1280-1780477200-1780506000@bmhac-a4s1km9h0y.live-website.com
SUMMARY:ISA London West qual
DESCRIPTION:Age Group: U13\,U15\,U17\,U19 \nEntry: Via Independent Schools
URL:https://bmhac-a4s1km9h0y.live-website.com/event/isa-london-west-qual/
LOCATION:Thames Valley Athletics Centre\, Pococks Lane\, Eton\, SL4 6HN\, United Kingdom
CATEGORIES:U14,U16,U18,U20
ATTACH;FMTTYPE=image/jpeg:https://bmhac-a4s1km9h0y.live-website.com/wp-content/uploads/2026/02/2025_07_05_Down-Grange-Athletics_079.jpg
END:VEVENT
BEGIN:VEVENT
DTSTART;TZID=UTC:20260606T090000
DTEND;TZID=UTC:20260607T170000
DTSTAMP:20260426T001227
CREATED:20260213T232223Z
LAST-MODIFIED:20260213T232224Z
UID:1282-1780736400-1780851600@bmhac-a4s1km9h0y.live-website.com
SUMMARY:SEAA U20/Senior Championships
DESCRIPTION:Age Group: U20/Senior \nEntry: Roster athletics – link to follow
URL:https://bmhac-a4s1km9h0y.live-website.com/event/seaa-u20-senior-championships/
LOCATION:Bedford International Athletics Stadium\, Barkers Lane\, Bedford\, MK42 0NT\, United Kingdom
CATEGORIES:Senior,U20
ATTACH;FMTTYPE=image/jpeg:https://bmhac-a4s1km9h0y.live-website.com/wp-content/uploads/2026/02/2025_07_05_Down-Grange-Athletics_008.jpg
END:VEVENT
BEGIN:VEVENT
DTSTART;TZID=UTC:20260607T090000
DTEND;TZID=UTC:20260607T170000
DTSTAMP:20260426T001227
CREATED:20260213T232224Z
LAST-MODIFIED:20260213T232651Z
UID:1284-1780822800-1780851600@bmhac-a4s1km9h0y.live-website.com
SUMMARY:Alder Valley League 2
DESCRIPTION:Age Group: U14-U18 \nEntry: Via Team Manager – contact the relevant team manager if you wish to compete.
URL:https://bmhac-a4s1km9h0y.live-website.com/event/alder-valley-league-2/
LOCATION:Aldershot Military Stadium\, Gallwey Road\, Aldershot\, GU11 2HY\, United Kingdom
CATEGORIES:U14,U16,U18
ATTACH;FMTTYPE=image/jpeg:https://bmhac-a4s1km9h0y.live-website.com/wp-content/uploads/2026/02/2025_07_09_A1M7A1138_Canon-EOS-R5m2_SiG-Athletics.jpg
END:VEVENT
BEGIN:VEVENT
DTSTART;TZID=UTC:20260610T090000
DTEND;TZID=UTC:20260610T170000
DTSTAMP:20260426T001227
CREATED:20260213T232226Z
LAST-MODIFIED:20260213T232228Z
UID:1286-1781082000-1781110800@bmhac-a4s1km9h0y.live-website.com
SUMMARY:Watford Open
DESCRIPTION:Age Group: U14 upwards \nEntry: Roster Athletics – entries open 27 May
URL:https://bmhac-a4s1km9h0y.live-website.com/event/watford-open-6/
LOCATION:Watford Open Graded Meeting\, Woodside Playing Fields\, Horseshoe Lane\, Watford\, WD25 7HZ\, United Kingdom
CATEGORIES:Senior,U14,U16,U18,U20
ATTACH;FMTTYPE=image/jpeg:https://bmhac-a4s1km9h0y.live-website.com/wp-content/uploads/2026/02/PJY6944-Edit-Edit.jpg
END:VEVENT
BEGIN:VEVENT
DTSTART;TZID=UTC:20260613T090000
DTEND;TZID=UTC:20260613T170000
DTSTAMP:20260426T001227
CREATED:20260213T232229Z
LAST-MODIFIED:20260213T232651Z
UID:1288-1781341200-1781370000@bmhac-a4s1km9h0y.live-website.com
SUMMARY:Hanmpshire Schools Championships
DESCRIPTION:Age Group: year 8-13 \nEntry: Via Schools
URL:https://bmhac-a4s1km9h0y.live-website.com/event/hanmpshire-schools-championships/
LOCATION:Mountbatten Centre\, Alexandra Park\, Tipner Road\, Portsmouth\, PO2 8HB\, United Kingdom
CATEGORIES:U14,U16,U18
ATTACH;FMTTYPE=image/jpeg:https://bmhac-a4s1km9h0y.live-website.com/wp-content/uploads/2026/02/BMHAC-2.jpg
END:VEVENT
BEGIN:VEVENT
DTSTART;TZID=UTC:20260614T090000
DTEND;TZID=UTC:20260614T170000
DTSTAMP:20260426T001227
CREATED:20260213T232230Z
LAST-MODIFIED:20260213T232650Z
UID:1290-1781427600-1781456400@bmhac-a4s1km9h0y.live-website.com
SUMMARY:Wessex 2
DESCRIPTION:Age Group: U12-U18 \nEntry: Via Team Manager – contact the relevant team manager if you wish to compete.
URL:https://bmhac-a4s1km9h0y.live-website.com/event/wessex-2/
LOCATION:Winchester Athletics Track\, Bar End Road\, Winchester\, SO23 9NR\, United Kingdom
CATEGORIES:U12,U14,U16,U18
ATTACH;FMTTYPE=image/jpeg:https://bmhac-a4s1km9h0y.live-website.com/wp-content/uploads/2026/02/TC-Athletics-5.jpg
END:VEVENT
BEGIN:VEVENT
DTSTART;TZID=UTC:20260615T090000
DTEND;TZID=UTC:20260615T170000
DTSTAMP:20260426T001227
CREATED:20260213T232232Z
LAST-MODIFIED:20260213T232233Z
UID:1292-1781514000-1781542800@bmhac-a4s1km9h0y.live-website.com
SUMMARY:ISA Nationals
DESCRIPTION:Age Group: U13\,U15\,U17\,U19 \nEntry: Via Independent Schools
URL:https://bmhac-a4s1km9h0y.live-website.com/event/isa-nationals/
LOCATION:Alexander Stadium\, Walsall Road\, Perry Barr\, Birmingham\, B42 2LR\, United Kingdom
CATEGORIES:U14,U16,U18,U20
ATTACH;FMTTYPE=image/jpeg:https://bmhac-a4s1km9h0y.live-website.com/wp-content/uploads/2026/02/05-07-25-KP07.jpg
END:VEVENT
BEGIN:VEVENT
DTSTART;TZID=UTC:20260620T090000
DTEND;TZID=UTC:20260620T170000
DTSTAMP:20260426T001227
CREATED:20260213T232233Z
LAST-MODIFIED:20260213T232649Z
UID:1294-1781946000-1781974800@bmhac-a4s1km9h0y.live-website.com
SUMMARY:Schools Intercounties
DESCRIPTION:Age Group: year 8-11 \nEntry: selected at Hampshire Schools
URL:https://bmhac-a4s1km9h0y.live-website.com/event/schools-intercounties/
LOCATION:Kent (venue TBC)\, Kent\, United Kingdom
CATEGORIES:U14,U16,U18
ATTACH;FMTTYPE=image/jpeg:https://bmhac-a4s1km9h0y.live-website.com/wp-content/uploads/2026/02/IMG_5236RS.jpg
END:VEVENT
BEGIN:VEVENT
DTSTART;TZID=UTC:20260620T090000
DTEND;TZID=UTC:20260621T170000
DTSTAMP:20260426T001227
CREATED:20260213T232235Z
LAST-MODIFIED:20260213T232235Z
UID:1296-1781946000-1782061200@bmhac-a4s1km9h0y.live-website.com
SUMMARY:British Championships
DESCRIPTION:Age Group: Seniors
URL:https://bmhac-a4s1km9h0y.live-website.com/event/british-championships/
LOCATION:Alexander Stadium\, Walsall Road\, Perry Barr\, Birmingham\, B42 2LR\, United Kingdom
CATEGORIES:Senior
ATTACH;FMTTYPE=image/jpeg:https://bmhac-a4s1km9h0y.live-website.com/wp-content/uploads/2026/02/2025_07_09_A1M7A1511_Canon-EOS-R5m2_SiG-Athletics.jpg
END:VEVENT
BEGIN:VEVENT
DTSTART;TZID=UTC:20260621T090000
DTEND;TZID=UTC:20260621T170000
DTSTAMP:20260426T001227
CREATED:20260213T232236Z
LAST-MODIFIED:20260213T232237Z
UID:1298-1782032400-1782061200@bmhac-a4s1km9h0y.live-website.com
SUMMARY:SAL 2
DESCRIPTION:Age Group: U18 upwards \nEntry: Via Team Manager – contact the relevant team manager if you wish to compete.
URL:https://bmhac-a4s1km9h0y.live-website.com/event/sal-2/
LOCATION:Worthing Leisure Centre\, Shaftesbury Avenue\, Worthing\, BN12 4ET\, United Kingdom
CATEGORIES:Senior,U18,U20
ATTACH;FMTTYPE=image/jpeg:https://bmhac-a4s1km9h0y.live-website.com/wp-content/uploads/2026/02/TC-Athletics-3.jpg
END:VEVENT
BEGIN:VEVENT
DTSTART;TZID=UTC:20260622T090000
DTEND;TZID=UTC:20260622T170000
DTSTAMP:20260426T001227
CREATED:20260213T232238Z
LAST-MODIFIED:20260213T232239Z
UID:1300-1782118800-1782147600@bmhac-a4s1km9h0y.live-website.com
SUMMARY:Aldershot District Schools Junior Champs
DESCRIPTION:Age Group: year 7&8 \nEntry: Via Schools
URL:https://bmhac-a4s1km9h0y.live-website.com/event/aldershot-district-schools-junior-champs/
LOCATION:Aldershot Military Stadium\, Gallwey Road\, Aldershot\, GU11 2HY\, United Kingdom
CATEGORIES:U14
ATTACH;FMTTYPE=image/jpeg:https://bmhac-a4s1km9h0y.live-website.com/wp-content/uploads/2026/02/P1407452.jpeg
END:VEVENT
BEGIN:VEVENT
DTSTART;TZID=UTC:20260622T090000
DTEND;TZID=UTC:20260622T170000
DTSTAMP:20260426T001227
CREATED:20260213T232239Z
LAST-MODIFIED:20260213T232240Z
UID:1302-1782118800-1782147600@bmhac-a4s1km9h0y.live-website.com
SUMMARY:Hampshire Veterans League HVL 3
DESCRIPTION:Age Group: over35 \nEntry: Via Team Manager – contact the relevant team manager if you wish to compete.
URL:https://bmhac-a4s1km9h0y.live-website.com/event/hampshire-veterans-league-hvl-3/
LOCATION:Down Grange\, RG225SN
CATEGORIES:Vet
ATTACH;FMTTYPE=image/jpeg:https://bmhac-a4s1km9h0y.live-website.com/wp-content/uploads/2026/02/P1407770.jpeg
END:VEVENT
BEGIN:VEVENT
DTSTART;TZID=UTC:20260624T090000
DTEND;TZID=UTC:20260624T170000
DTSTAMP:20260426T001227
CREATED:20260213T232241Z
LAST-MODIFIED:20260213T232242Z
UID:1304-1782291600-1782320400@bmhac-a4s1km9h0y.live-website.com
SUMMARY:Watford Open
DESCRIPTION:Age Group: U14 upwards \nEntry: Roster Athletics – entries open 10 June
URL:https://bmhac-a4s1km9h0y.live-website.com/event/watford-open-7/
LOCATION:Watford Open Graded Meeting\, Woodside Playing Fields\, Horseshoe Lane\, Watford\, WD25 7HZ\, United Kingdom
CATEGORIES:Senior,U14,U16,U18,U20
ATTACH;FMTTYPE=image/jpeg:https://bmhac-a4s1km9h0y.live-website.com/wp-content/uploads/2026/02/IMG_5259RS.jpg
END:VEVENT
BEGIN:VEVENT
DTSTART;TZID=UTC:20260627T090000
DTEND;TZID=UTC:20260628T170000
DTSTAMP:20260426T001227
CREATED:20260213T232243Z
LAST-MODIFIED:20260213T232649Z
UID:1306-1782550800-1782666000@bmhac-a4s1km9h0y.live-website.com
SUMMARY:ESAA Combined events regionals U15/17/19
DESCRIPTION:Age Group: year 8-13 \nEntry: selction from Hampshire Pentahlon and nominations
URL:https://bmhac-a4s1km9h0y.live-website.com/event/esaa-combined-events-regionals-u15-17-19/
LOCATION:Surrey (venue TBC)\, Surrey\, United Kingdom
CATEGORIES:U14,U16,U18
ATTACH;FMTTYPE=image/jpeg:https://bmhac-a4s1km9h0y.live-website.com/wp-content/uploads/2026/02/BMHAC-7.jpg
END:VEVENT
BEGIN:VEVENT
DTSTART;TZID=UTC:20260627T090000
DTEND;TZID=UTC:20260628T170000
DTSTAMP:20260426T001227
CREATED:20260213T232244Z
LAST-MODIFIED:20260213T232246Z
UID:1308-1782550800-1782666000@bmhac-a4s1km9h0y.live-website.com
SUMMARY:SEAA U14/16/18 Championships
DESCRIPTION:Age Group: U14\, U16\, U18 \nEntry: Roster athletics – link to follow
URL:https://bmhac-a4s1km9h0y.live-website.com/event/seaa-u14-16-18-championships/
LOCATION:Melbourne Park\, Melbourne Avenue\, Chelmsford\, CM1 2EH\, United Kingdom
CATEGORIES:U14,U16,U18
ATTACH;FMTTYPE=image/jpeg:https://bmhac-a4s1km9h0y.live-website.com/wp-content/uploads/2026/02/2025_07_05_Down-Grange-Athletics_103.jpg
END:VEVENT
END:VCALENDAR