BEGIN:VCALENDAR
VERSION:2.0
PRODID:-//Basingstoke And Mid Hants Athletic Club - ECPv6.15.20//NONSGML v1.0//EN
CALSCALE:GREGORIAN
METHOD:PUBLISH
X-WR-CALNAME:Basingstoke And Mid Hants Athletic Club
X-ORIGINAL-URL:https://bmhac-a4s1km9h0y.live-website.com
X-WR-CALDESC:Events for Basingstoke And Mid Hants Athletic Club
REFRESH-INTERVAL;VALUE=DURATION:PT1H
X-Robots-Tag:noindex
X-PUBLISHED-TTL:PT1H
BEGIN:VTIMEZONE
TZID:UTC
BEGIN:STANDARD
TZOFFSETFROM:+0000
TZOFFSETTO:+0000
TZNAME:UTC
DTSTART:20250101T000000
END:STANDARD
END:VTIMEZONE
BEGIN:VEVENT
DTSTART;TZID=UTC:20260426T090000
DTEND;TZID=UTC:20260426T170000
DTSTAMP:20260426T011946
CREATED:20260213T232155Z
LAST-MODIFIED:20260213T232654Z
UID:1250-1777194000-1777222800@bmhac-a4s1km9h0y.live-website.com
SUMMARY:Alder Valley League 1
DESCRIPTION:Age Group: U14-U18 \nEntry: Via Team Manager – contact the relevant team manager if you wish to compete.
URL:https://bmhac-a4s1km9h0y.live-website.com/event/alder-valley-league-1/
LOCATION:Hillingdon Athletics Stadium\, Gatting Way\, Uxbridge\, UB8 1ES\, United Kingdom
CATEGORIES:U14,U16,U18
ATTACH;FMTTYPE=image/jpeg:https://bmhac-a4s1km9h0y.live-website.com/wp-content/uploads/2026/02/BMHAC.jpg
END:VEVENT
BEGIN:VEVENT
DTSTART;TZID=UTC:20260419T090000
DTEND;TZID=UTC:20260419T170000
DTSTAMP:20260426T011946
CREATED:20260213T232153Z
LAST-MODIFIED:20260213T232654Z
UID:1248-1776589200-1776618000@bmhac-a4s1km9h0y.live-website.com
SUMMARY:Wessex 1
DESCRIPTION:Age Group: U12-U18 \nEntry: Via Team Manager – contact the relevant team manager if you wish to compete.
URL:https://bmhac-a4s1km9h0y.live-website.com/event/wessex-1/
LOCATION:Down Grange\, RG225SN
CATEGORIES:U12,U14,U16,U18
ATTACH;FMTTYPE=image/jpeg:https://bmhac-a4s1km9h0y.live-website.com/wp-content/uploads/2026/02/2025_07_05_Down-Grange-Athletics_264.jpg
END:VEVENT
BEGIN:VEVENT
DTSTART;TZID=UTC:20260418T090000
DTEND;TZID=UTC:20260418T170000
DTSTAMP:20260426T011946
CREATED:20260213T232152Z
LAST-MODIFIED:20260213T232153Z
UID:1246-1776502800-1776531600@bmhac-a4s1km9h0y.live-website.com
SUMMARY:WADAC Open
DESCRIPTION:Age Group: U10 upwards \nEntry: Home | WADAC Season Opener 2026 Open#1
URL:https://bmhac-a4s1km9h0y.live-website.com/event/wadac-open/
LOCATION:Winchester Athletics Track\, Bar End Road\, Winchester\, SO23 9NR\, United Kingdom
CATEGORIES:Senior,U10,U12,U14,U16,U18,U20
ATTACH;FMTTYPE=image/jpeg:https://bmhac-a4s1km9h0y.live-website.com/wp-content/uploads/2026/02/IMG_5123RS.jpg
END:VEVENT
BEGIN:VEVENT
DTSTART;TZID=UTC:20260415T090000
DTEND;TZID=UTC:20260415T170000
DTSTAMP:20260426T011946
CREATED:20260213T232150Z
LAST-MODIFIED:20260213T232151Z
UID:1244-1776243600-1776272400@bmhac-a4s1km9h0y.live-website.com
SUMMARY:Watford open
DESCRIPTION:Age Group: U14 upwards \nEntry: Roster Athletics – entries open 1 april
URL:https://bmhac-a4s1km9h0y.live-website.com/event/watford-open-2/
LOCATION:Watford Open Graded Meeting\, Woodside Playing Fields\, Horseshoe Lane\, Watford\, WD25 7HZ\, United Kingdom
CATEGORIES:Senior,U14,U16,U18,U20
ATTACH;FMTTYPE=image/jpeg:https://bmhac-a4s1km9h0y.live-website.com/wp-content/uploads/2026/02/BMHAC-6.jpg
END:VEVENT
BEGIN:VEVENT
DTSTART;TZID=UTC:20260412T090000
DTEND;TZID=UTC:20260412T170000
DTSTAMP:20260426T011946
CREATED:20260213T232148Z
LAST-MODIFIED:20260213T232149Z
UID:1242-1775984400-1776013200@bmhac-a4s1km9h0y.live-website.com
SUMMARY:Mark Cawte Open
DESCRIPTION:Age Group: U14 upwards \nEntry: Roster Athletics · Mark Cawte Open Meeting
URL:https://bmhac-a4s1km9h0y.live-website.com/event/mark-cawte-open/
LOCATION:Swindon Athletics Track\, County Ground\, Drove Road\, Swindon\, SN1 2ED\, United Kingdom
CATEGORIES:Senior,U14,U16,U18,U20
ATTACH;FMTTYPE=image/jpeg:https://bmhac-a4s1km9h0y.live-website.com/wp-content/uploads/2026/02/PJY6806-Edit-Edit.jpg
END:VEVENT
BEGIN:VEVENT
DTSTART;VALUE=DATE:20260404
DTEND;VALUE=DATE:20260405
DTSTAMP:20260426T011946
CREATED:20260131T155734Z
LAST-MODIFIED:20260131T160017Z
UID:958-1775260800-1775347199@bmhac-a4s1km9h0y.live-website.com
SUMMARY:BMHAC Young Athletes Open Meeting 2026
DESCRIPTION:Saturday 4th April – U10 to U18 \nFinal timetable available in the meeting manual AFTER entries have closed – please remember to check it is the FINAL timetable as event times may be amended to reflect entry numbers. \nField events 4 trials \nTrack \n\nall events will be time trials with medals to fastest three across all heats for your age group/gender\nElectronic Timing will be in operation\n\n*Registration closes 40 minutes before each events advertised start time – Please arrive early. \nPlease report to your track event 10 minutes before the scheduled start time Please report to your field event at least 20 minutes before the scheduled event start time \nPLEASE NOTE: AS PER BELOW AND UKA RULES: \n1. Athletes can only enter a MAXIMUM of 3 events. \n2. U16s can enter 800m OR 1500m NOT BOTH.
URL:https://bmhac-a4s1km9h0y.live-website.com/event/bmhac-young-athletes-open-meeting-2026/
LOCATION:Down Grange\, RG225SN
CATEGORIES:U10,U12,U14,U16,U18
ATTACH;FMTTYPE=image/jpeg:https://bmhac-a4s1km9h0y.live-website.com/wp-content/uploads/2026/01/track.jpg
END:VEVENT
BEGIN:VEVENT
DTSTART;TZID=UTC:20260401T090000
DTEND;TZID=UTC:20260401T170000
DTSTAMP:20260426T011946
CREATED:20260213T232145Z
LAST-MODIFIED:20260213T232146Z
UID:1238-1775034000-1775062800@bmhac-a4s1km9h0y.live-website.com
SUMMARY:Watford open
DESCRIPTION:Age Group: U14 upwards \nEntry: Roster Athletics – entries open 19 March
URL:https://bmhac-a4s1km9h0y.live-website.com/event/watford-open/
LOCATION:Watford Open Graded Meeting\, Woodside Playing Fields\, Horseshoe Lane\, Watford\, WD25 7HZ\, United Kingdom
CATEGORIES:Senior,U14,U16,U18,U20
ATTACH;FMTTYPE=image/jpeg:https://bmhac-a4s1km9h0y.live-website.com/wp-content/uploads/2026/02/BMHAC-7.jpg
END:VEVENT
BEGIN:VEVENT
DTSTART;TZID=UTC:20260328T090000
DTEND;TZID=UTC:20260328T170000
DTSTAMP:20260426T011946
CREATED:20260213T232143Z
LAST-MODIFIED:20260213T232656Z
UID:1236-1774688400-1774717200@bmhac-a4s1km9h0y.live-website.com
SUMMARY:Bracknell open
DESCRIPTION:Age Group: U12-U18 \nEntry: Roster Athletics · Bracknell AC 46th YA Open Meeting 2026
URL:https://bmhac-a4s1km9h0y.live-website.com/event/bracknell-open/
LOCATION:Bracknell Athletics Track\, Bagshot Road\, Bracknell\, RG12 9SE\, United Kingdom
CATEGORIES:U12,U14,U16,U18
ATTACH;FMTTYPE=image/jpeg:https://bmhac-a4s1km9h0y.live-website.com/wp-content/uploads/2026/02/IMG_5259RS.jpg
END:VEVENT
BEGIN:VEVENT
DTSTART;VALUE=DATE:20260307
DTEND;VALUE=DATE:20260309
DTSTAMP:20260426T011946
CREATED:20260215T124955Z
LAST-MODIFIED:20260215T124955Z
UID:1396-1772841600-1773014399@bmhac-a4s1km9h0y.live-website.com
SUMMARY:England Athletics Indoor Combined Events
DESCRIPTION:England Athletics indoor championships 2026: U17 and U15 combined events
URL:https://bmhac-a4s1km9h0y.live-website.com/event/england-athletics-indoor-combined-events/
CATEGORIES:U15,U17
ATTACH;FMTTYPE=image/jpeg:https://bmhac-a4s1km9h0y.live-website.com/wp-content/uploads/2026/02/England-Athletics-logo.jpg
END:VEVENT
BEGIN:VEVENT
DTSTART;VALUE=DATE:20260303
DTEND;VALUE=DATE:20260304
DTSTAMP:20260426T011946
CREATED:20260215T123920Z
LAST-MODIFIED:20260215T123920Z
UID:1393-1772496000-1772582399@bmhac-a4s1km9h0y.live-website.com
SUMMARY:HSAA Junior Cross Country Championsips
DESCRIPTION:U13/U14 \nDown Grange \nEntries made by School Districts
URL:https://bmhac-a4s1km9h0y.live-website.com/event/hsaa-junior-cross-country-championsips/
LOCATION:Down Grange\, RG225SN
CATEGORIES:U13,U14
END:VEVENT
BEGIN:VEVENT
DTSTART;VALUE=DATE:20260301
DTEND;VALUE=DATE:20260302
DTSTAMP:20260426T011946
CREATED:20260215T123413Z
LAST-MODIFIED:20260215T123413Z
UID:1388-1772323200-1772409599@bmhac-a4s1km9h0y.live-website.com
SUMMARY:Southern XC league 5
DESCRIPTION:Southern XC league 5 \nFarnham Runners would like to welcome you all to the 2nd round of the Southern Cross-Country League All-terrain race series. The race will once again be held in The Bourne Woods Starting from the field next to the rural life centre Tilford.
URL:https://bmhac-a4s1km9h0y.live-website.com/event/southern-xc-league-5/
LOCATION:Bourne Woods\, GU10 2DL\, United Kingdom
CATEGORIES:Senior
ATTACH;FMTTYPE=image/png:https://bmhac-a4s1km9h0y.live-website.com/wp-content/uploads/2026/02/logo.png
ORGANIZER;CN="Southern Cross Country League":MAILTO:info@southerncrosscountryleague.co.uk
END:VEVENT
BEGIN:VEVENT
DTSTART;TZID=UTC:20260228T100000
DTEND;TZID=UTC:20260228T163000
DTSTAMP:20260426T011946
CREATED:20251110T205626Z
LAST-MODIFIED:20251111T100636Z
UID:935-1772272800-1772296200@bmhac-a4s1km9h0y.live-website.com
SUMMARY:BMHAC Winter Throws 2
DESCRIPTION:
URL:https://bmhac-a4s1km9h0y.live-website.com/event/bmhac-winter-throws-2/
LOCATION:Down Grange\, RG225SN
CATEGORIES:Senior,U12,U14,U16,U18,U20,Vet
ATTACH;FMTTYPE=image/jpeg:https://bmhac-a4s1km9h0y.live-website.com/wp-content/uploads/2025/10/bmhac-javelin1.jpg
END:VEVENT
BEGIN:VEVENT
DTSTART;VALUE=DATE:20260228
DTEND;VALUE=DATE:20260301
DTSTAMP:20260426T011946
CREATED:20260215T122335Z
LAST-MODIFIED:20260215T122335Z
UID:1383-1772236800-1772323199@bmhac-a4s1km9h0y.live-website.com
SUMMARY:ISA National Cross country Finals
DESCRIPTION:ISA National Cross Country Finals 2025/26\nSaturday 28 February 2026\nHimley Hall\, Himley Road\, Himley\, Dudley\, DY3 4DF
URL:https://bmhac-a4s1km9h0y.live-website.com/event/isa-national-cross-country-finals/
LOCATION:Himley Hall\, Himley Hall\, Himley Road\, Himley\, DY3 4DF\, United Kingdom
CATEGORIES:U14,U16
ATTACH;FMTTYPE=image/gif:https://bmhac-a4s1km9h0y.live-website.com/wp-content/uploads/2026/02/ISALogo.gif
ORGANIZER;CN="Independent Schools Association":MAILTO:isa@isaschools.org.uk
END:VEVENT
BEGIN:VEVENT
DTSTART;VALUE=DATE:20260221
DTEND;VALUE=DATE:20260223
DTSTAMP:20260426T011946
CREATED:20260215T121527Z
LAST-MODIFIED:20260215T121527Z
UID:1379-1771632000-1771804799@bmhac-a4s1km9h0y.live-website.com
SUMMARY:British Masters Indoor Championships
DESCRIPTION:Competition Dates: 21-22 February 2026\, Lee Valley
URL:https://bmhac-a4s1km9h0y.live-website.com/event/british-masters-indoor-championships/
LOCATION:Lee Valley\, Lee Valley Athletics Centre\, Edmonton\, N9 0AR\, United Kingdom
CATEGORIES:Senior,Vet
ATTACH;FMTTYPE=image/jpeg:https://bmhac-a4s1km9h0y.live-website.com/wp-content/uploads/2026/02/british-masters-athletics-scaled.jpg
END:VEVENT
BEGIN:VEVENT
DTSTART;VALUE=DATE:20260221
DTEND;VALUE=DATE:20260222
DTSTAMP:20260426T011946
CREATED:20260215T120806Z
LAST-MODIFIED:20260215T120806Z
UID:1375-1771632000-1771718399@bmhac-a4s1km9h0y.live-website.com
SUMMARY:National XC Champs
DESCRIPTION:SportsShoes National Cross Country Championships 2026 \nSaturday 21st February 2026 \nHardwick East Park\, Sedgefield\, Co Durham \nEntries open Friday 21st November 2025. \nEntries close Friday 6th February 2026.
URL:https://bmhac-a4s1km9h0y.live-website.com/event/national-xc-champs/
LOCATION:Hardwick East Park\, Hardwick East Park\, Sedgefield\, County Duham\, TS21 2DN\, United Kingdom
CATEGORIES:Senior,U14,U16,U18
ATTACH;FMTTYPE=image/jpeg:https://bmhac-a4s1km9h0y.live-website.com/wp-content/uploads/2026/02/ECCA-English-Cross-Country-Association-logo-NEW.jpg
END:VEVENT
BEGIN:VEVENT
DTSTART;TZID=UTC:20260218T080000
DTEND;TZID=UTC:20260218T170000
DTSTAMP:20260426T011946
CREATED:20260215T115527Z
LAST-MODIFIED:20260215T120009Z
UID:1369-1771401600-1771434000@bmhac-a4s1km9h0y.live-website.com
SUMMARY:Lee Valley Middle Distance Open 2026
DESCRIPTION:Lee Valley Athletics Centre at proud to welcome back the Middle Distance Open in 2026. \nAll Events Now Sold Out
URL:https://bmhac-a4s1km9h0y.live-website.com/event/lee-valley-middle-distance-open-2026/
LOCATION:Lee Valley\, Lee Valley Athletics Centre\, Edmonton\, N9 0AR\, United Kingdom
CATEGORIES:U14,U16
ATTACH;FMTTYPE=image/jpeg:https://bmhac-a4s1km9h0y.live-website.com/wp-content/uploads/2026/02/LeeValley-scaled.jpg
ORGANIZER;CN="Lee Valley Athletics Centre":MAILTO:lvathletics@gll.org
END:VEVENT
END:VCALENDAR