BEGIN:VCALENDAR
VERSION:2.0
PRODID:-//Basingstoke And Mid Hants Athletic Club - ECPv6.15.20//NONSGML v1.0//EN
CALSCALE:GREGORIAN
METHOD:PUBLISH
X-ORIGINAL-URL:https://bmhac-a4s1km9h0y.live-website.com
X-WR-CALDESC:Events for Basingstoke And Mid Hants Athletic Club
REFRESH-INTERVAL;VALUE=DURATION:PT1H
X-Robots-Tag:noindex
X-PUBLISHED-TTL:PT1H
BEGIN:VTIMEZONE
TZID:UTC
BEGIN:STANDARD
TZOFFSETFROM:+0000
TZOFFSETTO:+0000
TZNAME:UTC
DTSTART:20250101T000000
END:STANDARD
END:VTIMEZONE
BEGIN:VEVENT
DTSTART;TZID=UTC:20260705T090000
DTEND;TZID=UTC:20260705T170000
DTSTAMP:20260426T033926
CREATED:20260213T232249Z
LAST-MODIFIED:20260213T232647Z
UID:1314-1783242000-1783270800@bmhac-a4s1km9h0y.live-website.com
SUMMARY:Alder Valley League 3
DESCRIPTION:Age Group: U14-U18 \nEntry: Via Team Manager – contact the relevant team manager if you wish to compete.
URL:https://bmhac-a4s1km9h0y.live-website.com/event/alder-valley-league-3/
LOCATION:Down Grange\, RG225SN
CATEGORIES:U14,U16,U18
ATTACH;FMTTYPE=image/jpeg:https://bmhac-a4s1km9h0y.live-website.com/wp-content/uploads/2026/02/IMG_5123RS.jpg
END:VEVENT
BEGIN:VEVENT
DTSTART;TZID=UTC:20260708T090000
DTEND;TZID=UTC:20260708T170000
DTSTAMP:20260426T033926
CREATED:20260213T232252Z
LAST-MODIFIED:20260213T232253Z
UID:1318-1783501200-1783530000@bmhac-a4s1km9h0y.live-website.com
SUMMARY:Watford Open
DESCRIPTION:Age Group: U14 upwards \nEntry: Roster Athletics – entries open 24 June
URL:https://bmhac-a4s1km9h0y.live-website.com/event/watford-open-8/
LOCATION:Watford Open Graded Meeting\, Woodside Playing Fields\, Horseshoe Lane\, Watford\, WD25 7HZ\, United Kingdom
CATEGORIES:Senior,U14,U16,U18,U20
ATTACH;FMTTYPE=image/jpeg:https://bmhac-a4s1km9h0y.live-website.com/wp-content/uploads/2026/02/BMHAC.jpg
END:VEVENT
BEGIN:VEVENT
DTSTART;TZID=UTC:20260710T090000
DTEND;TZID=UTC:20260711T170000
DTSTAMP:20260426T033926
CREATED:20260213T232254Z
LAST-MODIFIED:20260213T232647Z
UID:1320-1783674000-1783789200@bmhac-a4s1km9h0y.live-website.com
SUMMARY:ESAA Champs U15/17/19
DESCRIPTION:Age Group: year 8-13 \nEntry: selection from county championships
URL:https://bmhac-a4s1km9h0y.live-website.com/event/esaa-champs-u15-17-19/
LOCATION:Alexander Stadium\, Walsall Road\, Perry Barr\, Birmingham\, B42 2LR\, United Kingdom
CATEGORIES:U14,U16,U18
ATTACH;FMTTYPE=image/jpeg:https://bmhac-a4s1km9h0y.live-website.com/wp-content/uploads/2026/02/PJY6545-Edit-Edit.jpg
END:VEVENT
BEGIN:VEVENT
DTSTART;TZID=UTC:20260712T090000
DTEND;TZID=UTC:20260712T170000
DTSTAMP:20260426T033926
CREATED:20260213T232257Z
LAST-MODIFIED:20260213T232646Z
UID:1324-1783846800-1783875600@bmhac-a4s1km9h0y.live-website.com
SUMMARY:Wessex 4
DESCRIPTION:Age Group: U12-U18 \nEntry: Via Team Manager – contact the relevant team manager if you wish to compete.
URL:https://bmhac-a4s1km9h0y.live-website.com/event/wessex-4/
LOCATION:Horspath Athletics Ground\, Horspath Road\, Oxford\, OX4 2RR\, United Kingdom
CATEGORIES:U12,U14,U16,U18
ATTACH;FMTTYPE=image/jpeg:https://bmhac-a4s1km9h0y.live-website.com/wp-content/uploads/2026/02/2025_07_05_Down-Grange-Athletics_261.jpg
END:VEVENT
BEGIN:VEVENT
DTSTART;TZID=UTC:20260718T090000
DTEND;TZID=UTC:20260719T170000
DTSTAMP:20260426T033926
CREATED:20260213T232258Z
LAST-MODIFIED:20260213T232259Z
UID:1326-1784365200-1784480400@bmhac-a4s1km9h0y.live-website.com
SUMMARY:SEAA Combined Events Championships
DESCRIPTION:Age Group: U14 upwards \nEntry: Roster athletics – link to follow
URL:https://bmhac-a4s1km9h0y.live-website.com/event/seaa-combined-events-championships/
LOCATION:Horspath Athletics Ground\, Horspath Road\, Oxford\, OX4 2RR\, United Kingdom
CATEGORIES:Senior,U14,U16,U18,U20
ATTACH;FMTTYPE=image/jpeg:https://bmhac-a4s1km9h0y.live-website.com/wp-content/uploads/2026/02/PJY6934-Edit-Edit.jpg
END:VEVENT
BEGIN:VEVENT
DTSTART;TZID=UTC:20260722T090000
DTEND;TZID=UTC:20260722T170000
DTSTAMP:20260426T033926
CREATED:20260213T232303Z
LAST-MODIFIED:20260213T232304Z
UID:1332-1784710800-1784739600@bmhac-a4s1km9h0y.live-website.com
SUMMARY:Watford Open
DESCRIPTION:Age Group: U14 upwards \nEntry: Roster Athletics – entries open 8 July
URL:https://bmhac-a4s1km9h0y.live-website.com/event/watford-open-9/
LOCATION:Watford Open Graded Meeting\, Woodside Playing Fields\, Horseshoe Lane\, Watford\, WD25 7HZ\, United Kingdom
CATEGORIES:Senior,U14,U16,U18,U20
ATTACH;FMTTYPE=image/jpeg:https://bmhac-a4s1km9h0y.live-website.com/wp-content/uploads/2026/02/IMG_5318-2RS.jpg
END:VEVENT
BEGIN:VEVENT
DTSTART;TZID=UTC:20260726T090000
DTEND;TZID=UTC:20260726T170000
DTSTAMP:20260426T033926
CREATED:20260213T232305Z
LAST-MODIFIED:20260213T232645Z
UID:1334-1785056400-1785085200@bmhac-a4s1km9h0y.live-website.com
SUMMARY:Alder Valley League 4
DESCRIPTION:Age Group: U14-U18 \nEntry: Via Team Manager – contact the relevant team manager if you wish to compete.
URL:https://bmhac-a4s1km9h0y.live-website.com/event/alder-valley-league-4/
LOCATION:Guildford Spectrum Athletics Track\, Parkway\, Guildford\, GU1 1UP\, United Kingdom
CATEGORIES:U14,U16,U18
ATTACH;FMTTYPE=image/jpeg:https://bmhac-a4s1km9h0y.live-website.com/wp-content/uploads/2026/02/09-07-25-KP09.jpg
END:VEVENT
BEGIN:VEVENT
DTSTART;TZID=UTC:20260805T090000
DTEND;TZID=UTC:20260805T170000
DTSTAMP:20260426T033926
CREATED:20260213T232308Z
LAST-MODIFIED:20260213T232309Z
UID:1338-1785920400-1785949200@bmhac-a4s1km9h0y.live-website.com
SUMMARY:Watford Open
DESCRIPTION:Age Group: U14 upwards \nEntry: Roster Athletics – entries open 22 July
URL:https://bmhac-a4s1km9h0y.live-website.com/event/watford-open-10/
LOCATION:Watford Open Graded Meeting\, Woodside Playing Fields\, Horseshoe Lane\, Watford\, WD25 7HZ\, United Kingdom
CATEGORIES:Senior,U14,U16,U18,U20
ATTACH;FMTTYPE=image/jpeg:https://bmhac-a4s1km9h0y.live-website.com/wp-content/uploads/2026/02/P1407814.jpeg
END:VEVENT
BEGIN:VEVENT
DTSTART;TZID=UTC:20260819T090000
DTEND;TZID=UTC:20260819T170000
DTSTAMP:20260426T033926
CREATED:20260213T232311Z
LAST-MODIFIED:20260213T232312Z
UID:1342-1787130000-1787158800@bmhac-a4s1km9h0y.live-website.com
SUMMARY:Watford Open
DESCRIPTION:Age Group: U14 upwards \nEntry: Roster Athletics – entries open 5 Aug
URL:https://bmhac-a4s1km9h0y.live-website.com/event/watford-open-11/
LOCATION:Watford Open Graded Meeting\, Woodside Playing Fields\, Horseshoe Lane\, Watford\, WD25 7HZ\, United Kingdom
CATEGORIES:Senior,U14,U16,U18,U20
ATTACH;FMTTYPE=image/jpeg:https://bmhac-a4s1km9h0y.live-website.com/wp-content/uploads/2026/02/2025_07_09_Down-Grange-Athletics_034.jpg
END:VEVENT
BEGIN:VEVENT
DTSTART;TZID=UTC:20260902T090000
DTEND;TZID=UTC:20260902T170000
DTSTAMP:20260426T033926
CREATED:20260213T232314Z
LAST-MODIFIED:20260213T232315Z
UID:1346-1788339600-1788368400@bmhac-a4s1km9h0y.live-website.com
SUMMARY:Watford Open
DESCRIPTION:Age Group: U14 upwards \nEntry: Roster Athletics – entries open 19 Aug
URL:https://bmhac-a4s1km9h0y.live-website.com/event/watford-open-12/
LOCATION:Watford Open Graded Meeting\, Woodside Playing Fields\, Horseshoe Lane\, Watford\, WD25 7HZ\, United Kingdom
CATEGORIES:Senior,U14,U16,U18,U20
ATTACH;FMTTYPE=image/jpeg:https://bmhac-a4s1km9h0y.live-website.com/wp-content/uploads/2026/02/2025_07_09_Down-Grange-Athletics_009.jpg
END:VEVENT
BEGIN:VEVENT
DTSTART;TZID=UTC:20260906T090000
DTEND;TZID=UTC:20260906T170000
DTSTAMP:20260426T033926
CREATED:20260213T232316Z
LAST-MODIFIED:20260213T232317Z
UID:1348-1788685200-1788714000@bmhac-a4s1km9h0y.live-website.com
SUMMARY:Club Championships
DESCRIPTION:Age Group: U10 upwards \nEntry: entry link to follow
URL:https://bmhac-a4s1km9h0y.live-website.com/event/club-championships/
LOCATION:Down Grange\, RG225SN
CATEGORIES:Senior,U10,U12,U14,U16,U18,U20
ATTACH;FMTTYPE=image/jpeg:https://bmhac-a4s1km9h0y.live-website.com/wp-content/uploads/2026/02/2025_07_05_Down-Grange-Athletics_079.jpg
END:VEVENT
BEGIN:VEVENT
DTSTART;TZID=UTC:20260913T090000
DTEND;TZID=UTC:20260913T170000
DTSTAMP:20260426T033926
CREATED:20260213T232321Z
LAST-MODIFIED:20260213T232322Z
UID:1354-1789290000-1789318800@bmhac-a4s1km9h0y.live-website.com
SUMMARY:SEAA Inter-county U16/18 Championships
DESCRIPTION:Age Group: U16/U18 \nEntry: Roster athletics – link to follow
URL:https://bmhac-a4s1km9h0y.live-website.com/event/seaa-inter-county-u16-18-championships/
LOCATION:Kingsmeadow Athletics Track\, 422A Kingston Road\, Kingston upon Thames\, KT1 3PB\, United Kingdom
CATEGORIES:U16,U18
ATTACH;FMTTYPE=image/jpeg:https://bmhac-a4s1km9h0y.live-website.com/wp-content/uploads/2026/02/PJY6944-Edit-Edit.jpg
END:VEVENT
BEGIN:VEVENT
DTSTART;TZID=UTC:20260919T090000
DTEND;TZID=UTC:20260920T170000
DTSTAMP:20260426T033926
CREATED:20260213T232323Z
LAST-MODIFIED:20260213T232645Z
UID:1356-1789808400-1789923600@bmhac-a4s1km9h0y.live-website.com
SUMMARY:ESAA Combined events champs U15/17/19
DESCRIPTION:Age Group: year 8-13 \nEntry: selction from regionals
URL:https://bmhac-a4s1km9h0y.live-website.com/event/esaa-combined-events-champs-u15-17-19/
LOCATION:Bedford International Athletics Stadium\, Barkers Lane\, Bedford\, MK42 0NT\, United Kingdom
CATEGORIES:U14,U16,U18
ATTACH;FMTTYPE=image/jpeg:https://bmhac-a4s1km9h0y.live-website.com/wp-content/uploads/2026/02/BMHAC-2.jpg
END:VEVENT
END:VCALENDAR