BEGIN:VCALENDAR
VERSION:2.0
PRODID:-//Basingstoke And Mid Hants Athletic Club - ECPv6.15.20//NONSGML v1.0//EN
CALSCALE:GREGORIAN
METHOD:PUBLISH
X-ORIGINAL-URL:https://bmhac-a4s1km9h0y.live-website.com
X-WR-CALDESC:Events for Basingstoke And Mid Hants Athletic Club
REFRESH-INTERVAL;VALUE=DURATION:PT1H
X-Robots-Tag:noindex
X-PUBLISHED-TTL:PT1H
BEGIN:VTIMEZONE
TZID:UTC
BEGIN:STANDARD
TZOFFSETFROM:+0000
TZOFFSETTO:+0000
TZNAME:UTC
DTSTART:20250101T000000
END:STANDARD
END:VTIMEZONE
BEGIN:VEVENT
DTSTART;TZID=UTC:20260418T090000
DTEND;TZID=UTC:20260418T170000
DTSTAMP:20260426T025317
CREATED:20260213T232152Z
LAST-MODIFIED:20260213T232153Z
UID:1246-1776502800-1776531600@bmhac-a4s1km9h0y.live-website.com
SUMMARY:WADAC Open
DESCRIPTION:Age Group: U10 upwards \nEntry: Home | WADAC Season Opener 2026 Open#1
URL:https://bmhac-a4s1km9h0y.live-website.com/event/wadac-open/
LOCATION:Winchester Athletics Track\, Bar End Road\, Winchester\, SO23 9NR\, United Kingdom
CATEGORIES:Senior,U10,U12,U14,U16,U18,U20
ATTACH;FMTTYPE=image/jpeg:https://bmhac-a4s1km9h0y.live-website.com/wp-content/uploads/2026/02/IMG_5123RS.jpg
END:VEVENT
END:VCALENDAR