BEGIN:VCALENDAR
VERSION:2.0
PRODID:-//Basingstoke And Mid Hants Athletic Club - ECPv6.15.20//NONSGML v1.0//EN
CALSCALE:GREGORIAN
METHOD:PUBLISH
X-ORIGINAL-URL:https://bmhac-a4s1km9h0y.live-website.com
X-WR-CALDESC:Events for Basingstoke And Mid Hants Athletic Club
REFRESH-INTERVAL;VALUE=DURATION:PT1H
X-Robots-Tag:noindex
X-PUBLISHED-TTL:PT1H
BEGIN:VTIMEZONE
TZID:UTC
BEGIN:STANDARD
TZOFFSETFROM:+0000
TZOFFSETTO:+0000
TZNAME:UTC
DTSTART:20250101T000000
END:STANDARD
END:VTIMEZONE
BEGIN:VEVENT
DTSTART;TZID=UTC:20260523T090000
DTEND;TZID=UTC:20260523T170000
DTSTAMP:20260426T000951
CREATED:20260213T232217Z
LAST-MODIFIED:20260213T232218Z
UID:1276-1779526800-1779555600@bmhac-a4s1km9h0y.live-website.com
SUMMARY:NAL 1
DESCRIPTION:Age Group: Seniors \nEntry: Via Team Manager – contact the relevant team manager if you wish to compete.
URL:https://bmhac-a4s1km9h0y.live-website.com/event/nal-1/
LOCATION:Kingsmeadow Athletics Track\, 422A Kingston Road\, Kingston upon Thames\, KT1 3PB\, United Kingdom
CATEGORIES:Senior
ATTACH;FMTTYPE=image/jpeg:https://bmhac-a4s1km9h0y.live-website.com/wp-content/uploads/2026/02/2025_07_05_Down-Grange-Athletics_174.jpg
END:VEVENT
END:VCALENDAR