BEGIN:VCALENDAR
VERSION:2.0
PRODID:-//Basingstoke And Mid Hants Athletic Club - ECPv6.15.20//NONSGML v1.0//EN
CALSCALE:GREGORIAN
METHOD:PUBLISH
X-WR-CALNAME:Basingstoke And Mid Hants Athletic Club
X-ORIGINAL-URL:https://bmhac-a4s1km9h0y.live-website.com
X-WR-CALDESC:Events for Basingstoke And Mid Hants Athletic Club
REFRESH-INTERVAL;VALUE=DURATION:PT1H
X-Robots-Tag:noindex
X-PUBLISHED-TTL:PT1H
BEGIN:VTIMEZONE
TZID:UTC
BEGIN:STANDARD
TZOFFSETFROM:+0000
TZOFFSETTO:+0000
TZNAME:UTC
DTSTART:20250101T000000
END:STANDARD
END:VTIMEZONE
BEGIN:VEVENT
DTSTART;TZID=UTC:20260504T090000
DTEND;TZID=UTC:20260504T170000
DTSTAMP:20260426T000730
CREATED:20260213T232201Z
LAST-MODIFIED:20260213T232202Z
UID:1258-1777885200-1777914000@bmhac-a4s1km9h0y.live-website.com
SUMMARY:Hampshire Multi Event Championships
DESCRIPTION:Age Group: U14 upwards \nEntry: Roster Athletics · Hampshire Athletics Multi Events Championships
URL:https://bmhac-a4s1km9h0y.live-website.com/event/hampshire-multi-event-championships/
LOCATION:Mountbatten Centre\, Alexandra Park\, Tipner Road\, Portsmouth\, PO2 8HB\, United Kingdom
CATEGORIES:Senior,U14,U16,U18,U20
ATTACH;FMTTYPE=image/jpeg:https://bmhac-a4s1km9h0y.live-website.com/wp-content/uploads/2026/02/PJY6934-Edit-Edit.jpg
END:VEVENT
BEGIN:VEVENT
DTSTART;TZID=UTC:20260504T090000
DTEND;TZID=UTC:20260504T170000
DTSTAMP:20260426T000730
CREATED:20260213T232202Z
LAST-MODIFIED:20260213T232203Z
UID:1260-1777885200-1777914000@bmhac-a4s1km9h0y.live-website.com
SUMMARY:Hampshire Quadrathlon
DESCRIPTION:Age Group: U11\, U12 \nEntry: Roster Athletics · Hampshire Athletics Quadrathlon Championships
URL:https://bmhac-a4s1km9h0y.live-website.com/event/hampshire-quadrathlon/
LOCATION:Mountbatten Centre\, Alexandra Park\, Tipner Road\, Portsmouth\, PO2 8HB\, United Kingdom
CATEGORIES:U12
ATTACH;FMTTYPE=image/jpeg:https://bmhac-a4s1km9h0y.live-website.com/wp-content/uploads/2026/02/2025_07_09_A1M7A1797_Canon-EOS-R5m2_SiG-Athletics.jpg
END:VEVENT
BEGIN:VEVENT
DTSTART;TZID=UTC:20260504T090000
DTEND;TZID=UTC:20260504T170000
DTSTAMP:20260426T000730
CREATED:20260213T232204Z
LAST-MODIFIED:20260213T232205Z
UID:1262-1777885200-1777914000@bmhac-a4s1km9h0y.live-website.com
SUMMARY:Hampshire May Day Mile & 3000m
DESCRIPTION:Age Group: U14 upwards \nEntry: Roster Athletics · Hampshire Athletics May Day Miles and May Day 3000m
URL:https://bmhac-a4s1km9h0y.live-website.com/event/hampshire-may-day-mile-3000m/
LOCATION:Mountbatten Centre\, Alexandra Park\, Tipner Road\, Portsmouth\, PO2 8HB\, United Kingdom
CATEGORIES:Senior,U14,U16,U18,U20
ATTACH;FMTTYPE=image/jpeg:https://bmhac-a4s1km9h0y.live-website.com/wp-content/uploads/2026/02/2025_07_05_Down-Grange-Athletics_041.jpg
END:VEVENT
END:VCALENDAR